BEGIN:VCALENDAR
VERSION:2.0
PRODID:-//Camp Lake Association - ECPv6.15.20//NONSGML v1.0//EN
CALSCALE:GREGORIAN
METHOD:PUBLISH
X-ORIGINAL-URL:https://camplakesparta.com
X-WR-CALDESC:Events for Camp Lake Association
REFRESH-INTERVAL;VALUE=DURATION:PT1H
X-Robots-Tag:noindex
X-PUBLISHED-TTL:PT1H
BEGIN:VTIMEZONE
TZID:UTC
BEGIN:STANDARD
TZOFFSETFROM:+0000
TZOFFSETTO:+0000
TZNAME:UTC
DTSTART:20190101T000000
END:STANDARD
END:VTIMEZONE
BEGIN:VEVENT
DTSTART;TZID=UTC:20260521T080000
DTEND;TZID=UTC:20260521T080000
DTSTAMP:20260424T161705
CREATED:20260410T170040Z
LAST-MODIFIED:20260410T170040Z
UID:1169-1779350400-1779350400@camplakesparta.com
SUMMARY:Camp Lake Weed Treatment
DESCRIPTION:NOTICELetterRisk Benefit form
URL:https://camplakesparta.com/event/camp-lake-weed-treatment-3/
CATEGORIES:Maintenance
END:VEVENT
BEGIN:VEVENT
DTSTART;TZID=UTC:20260419T160000
DTEND;TZID=UTC:20260419T170000
DTSTAMP:20260424T161705
CREATED:20260410T164634Z
LAST-MODIFIED:20260410T164634Z
UID:1161-1776614400-1776618000@camplakesparta.com
SUMMARY:Camp Lake Association Annual Meeting
DESCRIPTION:Annual Meeting for Members Only
URL:https://camplakesparta.com/event/camp-lake-association-annual-meeting/
LOCATION:Sparta Moose Lodge\, 11510 N Division Ave\, Sparta\, MI\, 49345\, United States
CATEGORIES:Members
ATTACH;FMTTYPE=image/png:https://camplakesparta.com/wp-content/uploads/2026/04/CLA-Meeting-UPDATED-TIME.png
END:VEVENT
BEGIN:VEVENT
DTSTART;TZID=UTC:20260323T183000
DTEND;TZID=UTC:20260323T193000
DTSTAMP:20260424T161705
CREATED:20251029T013104Z
LAST-MODIFIED:20251029T013104Z
UID:1123-1774290600-1774294200@camplakesparta.com
SUMMARY:Weed Treatment Meeting
DESCRIPTION:We will be having a joint meeting between Algoma Township\, Camp Lake Association and Aquatic Doctors to answer any of your questions about week control as well as any concerns you might have about the water quality. You do not have to be a member of CLA to join this meeting.
URL:https://camplakesparta.com/event/weed-treatment-meeting/
LOCATION:Algoma Township Hall\, 10531 Algoma Ave NE\,\, Rockford\, MI\, 49341\, United States
CATEGORIES:Communuty
ORGANIZER;CN="Steve Rikkers":MAILTO:srikkers68@outlook.com
END:VEVENT
BEGIN:VEVENT
DTSTART;TZID=UTC:20260221T130000
DTEND;TZID=UTC:20260221T170000
DTSTAMP:20260424T161705
CREATED:20260130T145504Z
LAST-MODIFIED:20260130T145504Z
UID:1153-1771678800-1771693200@camplakesparta.com
SUMMARY:Winterfest 2026
DESCRIPTION:Come out and join us for food\, games and friendly competition. Bring a donation of $20 for the Michigan Veterans Home and receive a Winterfest 2026 commemorative Hat. Winterfest 2026 1/4 zips will also be available.
URL:https://camplakesparta.com/event/winterfest-2026/
LOCATION:Camp Lake Association\, 11895 Stauffer Dr.\, Sparta\, MI\, 49345\, United States
CATEGORIES:Communuty
ATTACH;FMTTYPE=image/png:https://camplakesparta.com/wp-content/uploads/2026/01/CLA_Winterfest_Flyer2026_Flyer-scaled.png
ORGANIZER;CN="Steve Rikkers":MAILTO:srikkers68@outlook.com
END:VEVENT
BEGIN:VEVENT
DTSTART;TZID=UTC:20251011T140000
DTEND;TZID=UTC:20251011T170000
DTSTAMP:20260424T161705
CREATED:20250909T182554Z
LAST-MODIFIED:20250909T182555Z
UID:1103-1760191200-1760202000@camplakesparta.com
SUMMARY:Dock O' Treat
DESCRIPTION:Trick or Treat from the docks of Camp Lake
URL:https://camplakesparta.com/event/dock-o-treat/
CATEGORIES:Communuty
ATTACH;FMTTYPE=image/png:https://camplakesparta.com/wp-content/uploads/2025/09/CampLake_DockOTreat_Proof2.png
ORGANIZER;CN="Steve Rikkers":MAILTO:srikkers68@outlook.com
END:VEVENT
BEGIN:VEVENT
DTSTART;TZID=UTC:20250830T140000
DTEND;TZID=UTC:20250830T180000
DTSTAMP:20260424T161705
CREATED:20250604T224613Z
LAST-MODIFIED:20250818T143753Z
UID:1070-1756562400-1756576800@camplakesparta.com
SUMMARY:Poker Run
DESCRIPTION:
URL:https://camplakesparta.com/event/poker-run-2/
LOCATION:Poker Run 2025\, 11900 Camp Lake Dr.\, Sparta\, MI\, MI\, 49345\, United States
CATEGORIES:Entertainment,Games
ATTACH;FMTTYPE=image/png:https://camplakesparta.com/wp-content/uploads/2025/06/CampLake_PokerRun_Flyer25.png
ORGANIZER;CN="Steve Rikkers":MAILTO:srikkers68@outlook.com
END:VEVENT
BEGIN:VEVENT
DTSTART;VALUE=DATE:20250722
DTEND;VALUE=DATE:20250723
DTSTAMP:20260424T161705
CREATED:20250625T201413Z
LAST-MODIFIED:20250722T161608Z
UID:1081-1753142400-1753228799@camplakesparta.com
SUMMARY:Camp Lake Weed Treatment
DESCRIPTION:
URL:https://camplakesparta.com/event/camp-lake-weed-treatment/
LOCATION:Poker Run 2025\, 11900 Camp Lake Dr.\, Sparta\, MI\, MI\, 49345\, United States
CATEGORIES:Communuty,Maintenance
ORGANIZER;CN="Steve Rikkers":MAILTO:srikkers68@outlook.com
END:VEVENT
BEGIN:VEVENT
DTSTART;TZID=UTC:20250719T093000
DTEND;TZID=UTC:20250719T140000
DTSTAMP:20260424T161705
CREATED:20250604T223906Z
LAST-MODIFIED:20250718T023822Z
UID:1068-1752917400-1752933600@camplakesparta.com
SUMMARY:Camp Lake Association Golf Scramble
DESCRIPTION:One of the best scrambles of the year\, limited to the first 18 teams
URL:https://camplakesparta.com/event/camp-lake-association-golf-scramble/
LOCATION:Sparta Moose Lodge\, 11510 N Division Ave\, Sparta\, MI\, 49345\, United States
CATEGORIES:Competition,Golf
ATTACH;FMTTYPE=image/png:https://camplakesparta.com/wp-content/uploads/2025/06/CampLake_GolfScramble_Flyer.png
ORGANIZER;CN="Steve Rikkers":MAILTO:srikkers68@outlook.com
END:VEVENT
BEGIN:VEVENT
DTSTART;TZID=UTC:20250705T190000
DTEND;TZID=UTC:20250705T230000
DTSTAMP:20260424T161705
CREATED:20250604T223219Z
LAST-MODIFIED:20250611T173751Z
UID:1066-1751742000-1751756400@camplakesparta.com
SUMMARY:4th of July Fireworks
DESCRIPTION:Fireworks will be shot from the Sparta Moose Lodge Golf Course around 10:30PM \nThere will be Free activities for the kids from 5:00 to 7:00PM at the Moose Lodge\, Face painting\, Balloon animals\, Arts and craft table\, kids axe throwing and other fun activities
URL:https://camplakesparta.com/event/4th-of-july-fireworks/
LOCATION:Sparta Moose Lodge\, 11510 N Division Ave\, Sparta\, MI\, 49345\, United States
CATEGORIES:Communuty,Entertainment,Fireworks,Games
ATTACH;FMTTYPE=image/png:https://camplakesparta.com/wp-content/uploads/2025/06/CampLake_FourthofJulyFlyer2025_FINAL-01.png
ORGANIZER;CN="Steve Rikkers":MAILTO:srikkers68@outlook.com
END:VEVENT
BEGIN:VEVENT
DTSTART;TZID=UTC:20250704T140000
DTEND;TZID=UTC:20250704T153000
DTSTAMP:20260424T161705
CREATED:20250604T222321Z
LAST-MODIFIED:20250611T173937Z
UID:1064-1751637600-1751643000@camplakesparta.com
SUMMARY:2025 Boat Parade
DESCRIPTION:Christmas in July is the theme for 2025\, Decorate your boat for a chance to win a great prize for the top three boats
URL:https://camplakesparta.com/event/2025-boat-parade/
LOCATION:Poker Run 2025\, 11900 Camp Lake Dr.\, Sparta\, MI\, MI\, 49345\, United States
CATEGORIES:Competition
ATTACH;FMTTYPE=image/png:https://camplakesparta.com/wp-content/uploads/2025/06/CampLake_FourthofJulyFlyer2025_FINAL-01.png
ORGANIZER;CN="Steve Rikkers":MAILTO:srikkers68@outlook.com
END:VEVENT
BEGIN:VEVENT
DTSTART;TZID=UTC:20230902T123000
DTEND;TZID=UTC:20230902T180000
DTSTAMP:20260424T161705
CREATED:20221212T000240Z
LAST-MODIFIED:20221212T001144Z
UID:1030-1693657800-1693677600@camplakesparta.com
SUMMARY:Poker Run
DESCRIPTION:
URL:https://camplakesparta.com/event/poker-run/
LOCATION:Poker Run 2025\, 11900 Camp Lake Dr.\, Sparta\, MI\, MI\, 49345\, United States
CATEGORIES:Communuty,Competition,Entertainment,Food,Games
ORGANIZER;CN="Steve Rikkers":MAILTO:srikkers68@outlook.com
END:VEVENT
BEGIN:VEVENT
DTSTART;TZID=UTC:20230722T100000
DTEND;TZID=UTC:20230722T170000
DTSTAMP:20260424T161705
CREATED:20221212T000438Z
LAST-MODIFIED:20221212T000440Z
UID:1032-1690020000-1690045200@camplakesparta.com
SUMMARY:Camp Lake Association Golf Outing
DESCRIPTION:
URL:https://camplakesparta.com/event/camp-lake-association-golf-outing/
LOCATION:Sparta Moose Lodge\, 11510 N Division Ave\, Sparta\, MI\, 49345\, United States
CATEGORIES:Communuty,Competition,Entertainment,Food,Games,Golf
ORGANIZER;CN="Steve Rikkers":MAILTO:srikkers68@outlook.com
END:VEVENT
BEGIN:VEVENT
DTSTART;TZID=UTC:20230703T223000
DTEND;TZID=UTC:20230703T231000
DTSTAMP:20260424T161705
CREATED:20221211T235902Z
LAST-MODIFIED:20221212T000731Z
UID:1028-1688423400-1688425800@camplakesparta.com
SUMMARY:Camp Lake Association Fireworks
DESCRIPTION:
URL:https://camplakesparta.com/event/camp-lake-association-fireworks/
LOCATION:Poker Run 2025\, 11900 Camp Lake Dr.\, Sparta\, MI\, MI\, 49345\, United States
CATEGORIES:Communuty,Entertainment,Fireworks,Food,Games
ORGANIZER;CN="Steve Rikkers":MAILTO:srikkers68@outlook.com
END:VEVENT
BEGIN:VEVENT
DTSTART;TZID=UTC:20230702T130000
DTEND;TZID=UTC:20230702T143000
DTSTAMP:20260424T161705
CREATED:20221211T235734Z
LAST-MODIFIED:20221212T000849Z
UID:1026-1688302800-1688308200@camplakesparta.com
SUMMARY:Boat Parade
DESCRIPTION:
URL:https://camplakesparta.com/event/boat-parade/
LOCATION:Poker Run 2025\, 11900 Camp Lake Dr.\, Sparta\, MI\, MI\, 49345\, United States
CATEGORIES:Communuty,Competition,Entertainment
END:VEVENT
BEGIN:VEVENT
DTSTART;TZID=UTC:20230416T140000
DTEND;TZID=UTC:20230416T150000
DTSTAMP:20260424T161705
CREATED:20230124T091044Z
LAST-MODIFIED:20230124T091046Z
UID:1037-1681653600-1681657200@camplakesparta.com
SUMMARY:Annual Meeting
DESCRIPTION:
URL:https://camplakesparta.com/event/annual-meeting/
LOCATION:Sparta Moose Lodge\, 11510 N Division Ave\, Sparta\, MI\, 49345\, United States
CATEGORIES:Communuty
ORGANIZER;CN="Steve Rikkers":MAILTO:srikkers68@outlook.com
END:VEVENT
BEGIN:VEVENT
DTSTART;TZID=UTC:20230225T100000
DTEND;TZID=UTC:20230225T180000
DTSTAMP:20260424T161705
CREATED:20221211T235417Z
LAST-MODIFIED:20221212T001043Z
UID:1022-1677319200-1677348000@camplakesparta.com
SUMMARY:Winterfest
DESCRIPTION:
URL:https://camplakesparta.com/event/winterfest/
LOCATION:Poker Run 2025\, 11900 Camp Lake Dr.\, Sparta\, MI\, MI\, 49345\, United States
CATEGORIES:Communuty,Competition,Entertainment,Games
ORGANIZER;CN="Steve Rikkers":MAILTO:srikkers68@outlook.com
END:VEVENT
BEGIN:VEVENT
DTSTART;TZID=UTC:20230127T170000
DTEND;TZID=UTC:20230127T200000
DTSTAMP:20260424T161705
CREATED:20221211T234951Z
LAST-MODIFIED:20221212T000931Z
UID:1017-1674838800-1674849600@camplakesparta.com
SUMMARY:Prime Rib Dinner
DESCRIPTION:
URL:https://camplakesparta.com/event/prime-rib-dinner-4/
LOCATION:Sparta Moose Lodge\, 11510 N Division Ave\, Sparta\, MI\, 49345\, United States
CATEGORIES:Communuty,Food
ATTACH;FMTTYPE=image/png:https://camplakesparta.com/wp-content/uploads/2022/12/CampLake_PrimeRibFlyer.png
ORGANIZER;CN="Steve Rikkers":MAILTO:srikkers68@outlook.com
END:VEVENT
BEGIN:VEVENT
DTSTART;TZID=UTC:20221022T110000
DTEND;TZID=UTC:20221022T180000
DTSTAMP:20260424T161705
CREATED:20211220T171610Z
LAST-MODIFIED:20211220T171610Z
UID:879-1666436400-1666461600@camplakesparta.com
SUMMARY:Corn-Hole Tournament and Chili Cook-Off
DESCRIPTION:More details to come
URL:https://camplakesparta.com/event/corn-hole-tournament-and-chili-cook-off/
LOCATION:Sparta Moose Lodge\, 11510 N Division Ave\, Sparta\, MI\, 49345\, United States
CATEGORIES:Communuty,Competition,Entertainment,Food
END:VEVENT
BEGIN:VEVENT
DTSTART;TZID=UTC:20220730T093000
DTEND;TZID=UTC:20220730T170000
DTSTAMP:20260424T161705
CREATED:20211220T164700Z
LAST-MODIFIED:20211220T164701Z
UID:873-1659173400-1659200400@camplakesparta.com
SUMMARY:Golf Scramble
DESCRIPTION:
URL:https://camplakesparta.com/event/golf-scramble-3/
LOCATION:Sparta Moose Lodge\, 11510 N Division Ave\, Sparta\, MI\, 49345\, United States
CATEGORIES:Communuty,Golf
ORGANIZER;CN="Steve Rikkers":MAILTO:srikkers68@outlook.com
END:VEVENT
BEGIN:VEVENT
DTSTART;TZID=UTC:20220704T140000
DTEND;TZID=UTC:20220704T153000
DTSTAMP:20260424T161705
CREATED:20211220T165031Z
LAST-MODIFIED:20211220T165032Z
UID:875-1656943200-1656948600@camplakesparta.com
SUMMARY:Camp Lake Boat Parade
DESCRIPTION:Theme to follow later in 2022
URL:https://camplakesparta.com/event/camp-lake-boat-parade/
LOCATION:Poker Run 2025\, 11900 Camp Lake Dr.\, Sparta\, MI\, MI\, 49345\, United States
CATEGORIES:Communuty,Competition,Entertainment
END:VEVENT
BEGIN:VEVENT
DTSTART;TZID=UTC:20220703T224500
DTEND;TZID=UTC:20220703T232000
DTSTAMP:20260424T161705
CREATED:20211220T165335Z
LAST-MODIFIED:20211220T165336Z
UID:877-1656888300-1656890400@camplakesparta.com
SUMMARY:Camp Lake Fireworks
DESCRIPTION:
URL:https://camplakesparta.com/event/camp-lake-fireworks/
LOCATION:Poker Run 2025\, 11900 Camp Lake Dr.\, Sparta\, MI\, MI\, 49345\, United States
CATEGORIES:Communuty,Entertainment,Fireworks
ORGANIZER;CN="Steve Rikkers":MAILTO:srikkers68@outlook.com
END:VEVENT
BEGIN:VEVENT
DTSTART;TZID=UTC:20220219T130000
DTEND;TZID=UTC:20220219T180000
DTSTAMP:20260424T161705
CREATED:20211220T160517Z
LAST-MODIFIED:20220211T032727Z
UID:870-1645275600-1645293600@camplakesparta.com
SUMMARY:Winterfest 2022
DESCRIPTION:
URL:https://camplakesparta.com/event/winterfest-2022/
LOCATION:Poker Run 2025\, 11900 Camp Lake Dr.\, Sparta\, MI\, MI\, 49345\, United States
CATEGORIES:Communuty
END:VEVENT
BEGIN:VEVENT
DTSTART;TZID=UTC:20220204T170000
DTEND;TZID=UTC:20220204T200000
DTSTAMP:20260424T161705
CREATED:20211220T154604Z
LAST-MODIFIED:20211220T154844Z
UID:867-1643994000-1644004800@camplakesparta.com
SUMMARY:Prime Rib Dinner
DESCRIPTION:
URL:https://camplakesparta.com/event/prime-rib-dinner-3/
LOCATION:Sparta Moose Lodge\, 11510 N Division Ave\, Sparta\, MI\, 49345\, United States
CATEGORIES:Communuty,Food
ORGANIZER;CN="Steve Rikkers":MAILTO:srikkers68@outlook.com
END:VEVENT
BEGIN:VEVENT
DTSTART;TZID=UTC:20210227T070000
DTEND;TZID=UTC:20210227T170000
DTSTAMP:20260424T161705
CREATED:20210127T020749Z
LAST-MODIFIED:20210127T020749Z
UID:801-1614409200-1614445200@camplakesparta.com
SUMMARY:Winterfest 2021
DESCRIPTION:Winterfest 202120210125143504502
URL:https://camplakesparta.com/event/winterfest-2021/
CATEGORIES:Communuty
ATTACH;FMTTYPE=application/pdf:https://camplakesparta.com/wp-content/uploads/2021/01/Winterfest-2021-1.pdf
ORGANIZER;CN="John Newville":MAILTO:jen@apexspring.com
END:VEVENT
BEGIN:VEVENT
DTSTART;TZID=UTC:20210205T170000
DTEND;TZID=UTC:20210205T200000
DTSTAMP:20260424T161705
CREATED:20210127T021306Z
LAST-MODIFIED:20210128T014635Z
UID:806-1612544400-1612555200@camplakesparta.com
SUMMARY:Prime Rib Dinner
DESCRIPTION:Prime Rib Dinner 2021
URL:https://camplakesparta.com/event/prime-rib-dinner-2/
LOCATION:Sparta Moose Lodge\, 11510 N Division Ave\, Sparta\, MI\, 49345\, United States
CATEGORIES:Communuty,Food
ATTACH;FMTTYPE=application/pdf:https://camplakesparta.com/wp-content/uploads/2021/01/Prime-Rib-Dinner-2021-3.pdf
ORGANIZER;CN="John Newville":MAILTO:jen@apexspring.com
END:VEVENT
BEGIN:VEVENT
DTSTART;TZID=UTC:20201010T110000
DTEND;TZID=UTC:20201010T173000
DTSTAMP:20260424T161705
CREATED:20200914T022018Z
LAST-MODIFIED:20200914T022018Z
UID:783-1602327600-1602351000@camplakesparta.com
SUMMARY:Chili Cook-Off and Cornhole Tournament
DESCRIPTION:
URL:https://camplakesparta.com/event/chili-cook-off-and-cornhole-tournament/
LOCATION:Sparta Moose Lodge\, 11510 N Division Ave\, Sparta\, MI\, 49345\, United States
CATEGORIES:Communuty,Food
ATTACH;FMTTYPE=image/png:https://camplakesparta.com/wp-content/uploads/2020/09/Chili-cookoff-Cornhole-Tournament-flyer-2020-3.png
ORGANIZER;CN="Steve Rikkers":MAILTO:srikkers68@outlook.com
END:VEVENT
BEGIN:VEVENT
DTSTART;TZID=UTC:20200920T080000
DTEND;TZID=UTC:20200920T170000
DTSTAMP:20260424T161705
CREATED:20200914T030914Z
LAST-MODIFIED:20200914T030914Z
UID:795-1600588800-1600621200@camplakesparta.com
SUMMARY:Golf Scramble
DESCRIPTION:
URL:https://camplakesparta.com/event/golf-scramble-2/
CATEGORIES:Communuty,fitness,Golf
ORGANIZER;CN="Steve Rikkers":MAILTO:srikkers68@outlook.com
END:VEVENT
BEGIN:VEVENT
DTSTART;TZID=UTC:20200907T090000
DTEND;TZID=UTC:20200907T120000
DTSTAMP:20260424T161705
CREATED:20191212T192602Z
LAST-MODIFIED:20200825T190200Z
UID:628-1599469200-1599480000@camplakesparta.com
SUMMARY:Camp Lake Association 5K Race
DESCRIPTION:
URL:https://camplakesparta.com/event/camp-lake-association-5k-race/
LOCATION:Sparta Moose Lodge\, 11510 N Division Ave\, Sparta\, MI\, 49345\, United States
CATEGORIES:Communuty,fitness
ORGANIZER;CN="Alison Flegal":MAILTO:alisonflegal@gmail.com
END:VEVENT
BEGIN:VEVENT
DTSTART;TZID=UTC:20200905T130000
DTEND;TZID=UTC:20200905T200000
DTSTAMP:20260424T161705
CREATED:20191212T191657Z
LAST-MODIFIED:20200825T185252Z
UID:623-1599310800-1599336000@camplakesparta.com
SUMMARY:Tom Milligan Memorial Poker Run 2020
DESCRIPTION:
URL:https://camplakesparta.com/event/tom-milligan-memorial-poker-run-2020/
CATEGORIES:Communuty,Fireworks
ORGANIZER;CN="Steve Rikkers":MAILTO:srikkers68@outlook.com
END:VEVENT
BEGIN:VEVENT
DTSTART;TZID=UTC:20200801T093000
DTEND;TZID=UTC:20200801T170000
DTSTAMP:20260424T161705
CREATED:20200210T234954Z
LAST-MODIFIED:20200722T150754Z
UID:670-1596274200-1596301200@camplakesparta.com
SUMMARY:Golf Scramble
DESCRIPTION:
URL:https://camplakesparta.com/event/golf-scramble/
LOCATION:Sparta Moose Lodge\, 11510 N Division Ave\, Sparta\, MI\, 49345\, United States
CATEGORIES:Communuty,Golf
ORGANIZER;CN="Steve Rikkers":MAILTO:srikkers68@outlook.com
END:VEVENT
END:VCALENDAR