BEGIN:VCALENDAR
VERSION:2.0
PRODID:-//Camp Lake Association - ECPv6.15.20//NONSGML v1.0//EN
CALSCALE:GREGORIAN
METHOD:PUBLISH
X-WR-CALNAME:Camp Lake Association
X-ORIGINAL-URL:https://camplakesparta.com
X-WR-CALDESC:Events for Camp Lake Association
REFRESH-INTERVAL;VALUE=DURATION:PT1H
X-Robots-Tag:noindex
X-PUBLISHED-TTL:PT1H
BEGIN:VTIMEZONE
TZID:UTC
BEGIN:STANDARD
TZOFFSETFROM:+0000
TZOFFSETTO:+0000
TZNAME:UTC
DTSTART:20180101T000000
END:STANDARD
END:VTIMEZONE
BEGIN:VEVENT
DTSTART;TZID=UTC:20191102T110000
DTEND;TZID=UTC:20191102T170000
DTSTAMP:20260425T140329
CREATED:20191206T143801Z
LAST-MODIFIED:20191206T143801Z
UID:280-1572692400-1572714000@camplakesparta.com
SUMMARY:Camp Lake Chili Cook-Off 2019
DESCRIPTION:When: Saturday November 2nd \nTime: Cooking starts at 11:00 AM tasting begins at 3:00 PM \nWhere: Sparta Moose Lodge \n​Sign up link:\nhttps://www.signupgenious.com/go/8050a48a9ac2fa3fd0-chili 
URL:https://camplakesparta.com/event/camp-lake-chili-cook-off-2019/
LOCATION:Sparta Moose Lodge\, 11510 N Division Ave\, Sparta\, MI\, 49345\, United States
ORGANIZER;CN="Steve Rikkers":MAILTO:srikkers68@outlook.com
END:VEVENT
END:VCALENDAR